Workbook

Sheet Réglages
A1: Réglage | B1: Valeur
A2: 1re relance, jours après l'envoi du devis | B2: 7
A3: 2e relance, jours après l'envoi du devis | B3: 21
A4: Ces délais sont des points de départ : ajustez-les à vos chantiers.
A6: Canaux | B6: Statuts
A7: Bouche-à-oreille | B7: À visiter
A8: Ancien client | B8: Devis à faire
A9: Site internet ou Google | B9: Devis envoyé
A10: Fiche Google | B10: Signé
A11: Plateforme de mise en relation | B11: Perdu
A12: Réseau ou prescripteur | B12: Sans suite
A13: Sous-traitance
A14: Appel d'offres
A15: Autre

Sheet Demandes
A1: Reçue le | B1: Client | C1: Téléphone ou mail | D1: Canal | E1: Travaux | F1: Visite le | G1: Devis envoyé le | H1: Montant HT | I1: 1re relance | J1: 2e relance | K1: Statut | L1: Motif si perdu | M1: À relancer ?
B2: Client exemple 1 | D2: Bouche-à-oreille | E2: Rénovation salle de bain | I2: =IF(G2="","",G2+Réglages!$B$2) | J2: =IF(G2="","",G2+Réglages!$B$3) | K2: Devis à faire | M2: =IF(AND(K2="Devis envoyé",J2<>""),IF(TODAY()>=J2,"2e relance",IF(TODAY()>=I2,"1re relance","")),"")
B3: Client exemple 2 | D3: Site internet ou Google | E3: Remplacement chaudière | I3: =IF(G3="","",G3+Réglages!$B$2) | J3: =IF(G3="","",G3+Réglages!$B$3) | K3: Devis à faire | M3: =IF(AND(K3="Devis envoyé",J3<>""),IF(TODAY()>=J3,"2e relance",IF(TODAY()>=I3,"1re relance","")),"")
B4: Client exemple 3 | D4: Ancien client | E4: Peinture séjour | I4: =IF(G4="","",G4+Réglages!$B$2) | J4: =IF(G4="","",G4+Réglages!$B$3) | K4: Devis à faire | M4: =IF(AND(K4="Devis envoyé",J4<>""),IF(TODAY()>=J4,"2e relance",IF(TODAY()>=I4,"1re relance","")),"")
I5: =IF(G5="","",G5+Réglages!$B$2) | J5: =IF(G5="","",G5+Réglages!$B$3) | M5: =IF(AND(K5="Devis envoyé",J5<>""),IF(TODAY()>=J5,"2e relance",IF(TODAY()>=I5,"1re relance","")),"")
I6: =IF(G6="","",G6+Réglages!$B$2) | J6: =IF(G6="","",G6+Réglages!$B$3) | M6: =IF(AND(K6="Devis envoyé",J6<>""),IF(TODAY()>=J6,"2e relance",IF(TODAY()>=I6,"1re relance","")),"")
I7: =IF(G7="","",G7+Réglages!$B$2) | J7: =IF(G7="","",G7+Réglages!$B$3) | M7: =IF(AND(K7="Devis envoyé",J7<>""),IF(TODAY()>=J7,"2e relance",IF(TODAY()>=I7,"1re relance","")),"")
I8: =IF(G8="","",G8+Réglages!$B$2) | J8: =IF(G8="","",G8+Réglages!$B$3) | M8: =IF(AND(K8="Devis envoyé",J8<>""),IF(TODAY()>=J8,"2e relance",IF(TODAY()>=I8,"1re relance","")),"")
I9: =IF(G9="","",G9+Réglages!$B$2) | J9: =IF(G9="","",G9+Réglages!$B$3) | M9: =IF(AND(K9="Devis envoyé",J9<>""),IF(TODAY()>=J9,"2e relance",IF(TODAY()>=I9,"1re relance","")),"")
I10: =IF(G10="","",G10+Réglages!$B$2) | J10: =IF(G10="","",G10+Réglages!$B$3) | M10: =IF(AND(K10="Devis envoyé",J10<>""),IF(TODAY()>=J10,"2e relance",IF(TODAY()>=I10,"1re relance","")),"")
I11: =IF(G11="","",G11+Réglages!$B$2) | J11: =IF(G11="","",G11+Réglages!$B$3) | M11: =IF(AND(K11="Devis envoyé",J11<>""),IF(TODAY()>=J11,"2e relance",IF(TODAY()>=I11,"1re relance","")),"")
I12: =IF(G12="","",G12+Réglages!$B$2) | J12: =IF(G12="","",G12+Réglages!$B$3) | M12: =IF(AND(K12="Devis envoyé",J12<>""),IF(TODAY()>=J12,"2e relance",IF(TODAY()>=I12,"1re relance","")),"")
I13: =IF(G13="","",G13+Réglages!$B$2) | J13: =IF(G13="","",G13+Réglages!$B$3) | M13: =IF(AND(K13="Devis envoyé",J13<>""),IF(TODAY()>=J13,"2e relance",IF(TODAY()>=I13,"1re relance","")),"")
I14: =IF(G14="","",G14+Réglages!$B$2) | J14: =IF(G14="","",G14+Réglages!$B$3) | M14: =IF(AND(K14="Devis envoyé",J14<>""),IF(TODAY()>=J14,"2e relance",IF(TODAY()>=I14,"1re relance","")),"")
I15: =IF(G15="","",G15+Réglages!$B$2) | J15: =IF(G15="","",G15+Réglages!$B$3) | M15: =IF(AND(K15="Devis envoyé",J15<>""),IF(TODAY()>=J15,"2e relance",IF(TODAY()>=I15,"1re relance","")),"")
I16: =IF(G16="","",G16+Réglages!$B$2) | J16: =IF(G16="","",G16+Réglages!$B$3) | M16: =IF(AND(K16="Devis envoyé",J16<>""),IF(TODAY()>=J16,"2e relance",IF(TODAY()>=I16,"1re relance","")),"")
... I201: =IF(G201="","",G201+Réglages!$B$2) | J201: =IF(G201="","",G201+Réglages!$B$3) | M201: =IF(AND(K201="Devis envoyé",J201<>""),IF(TODAY()>=J201,"2e relance",IF(TODAY()>=I201,"1re relance","")),"")

Sheet Par canal
A1: Canal | B1: Demandes | C1: Signées | D1: Taux de signature | E1: Montant signé HT
A2: Bouche-à-oreille | B2: =COUNTIF(Demandes!$D$2:$D$201,A2) | C2: =COUNTIFS(Demandes!$D$2:$D$201,A2,Demandes!$K$2:$K$201,"Signé") | D2: =IF(B2=0,"",C2/B2) | E2: =SUMIFS(Demandes!$H$2:$H$201,Demandes!$D$2:$D$201,A2,Demandes!$K$2:$K$201,"Signé")
A3: Ancien client | B3: =COUNTIF(Demandes!$D$2:$D$201,A3) | C3: =COUNTIFS(Demandes!$D$2:$D$201,A3,Demandes!$K$2:$K$201,"Signé") | D3: =IF(B3=0,"",C3/B3) | E3: =SUMIFS(Demandes!$H$2:$H$201,Demandes!$D$2:$D$201,A3,Demandes!$K$2:$K$201,"Signé")
A4: Site internet ou Google | B4: =COUNTIF(Demandes!$D$2:$D$201,A4) | C4: =COUNTIFS(Demandes!$D$2:$D$201,A4,Demandes!$K$2:$K$201,"Signé") | D4: =IF(B4=0,"",C4/B4) | E4: =SUMIFS(Demandes!$H$2:$H$201,Demandes!$D$2:$D$201,A4,Demandes!$K$2:$K$201,"Signé")
A5: Fiche Google | B5: =COUNTIF(Demandes!$D$2:$D$201,A5) | C5: =COUNTIFS(Demandes!$D$2:$D$201,A5,Demandes!$K$2:$K$201,"Signé") | D5: =IF(B5=0,"",C5/B5) | E5: =SUMIFS(Demandes!$H$2:$H$201,Demandes!$D$2:$D$201,A5,Demandes!$K$2:$K$201,"Signé")
A6: Plateforme de mise en relation | B6: =COUNTIF(Demandes!$D$2:$D$201,A6) | C6: =COUNTIFS(Demandes!$D$2:$D$201,A6,Demandes!$K$2:$K$201,"Signé") | D6: =IF(B6=0,"",C6/B6) | E6: =SUMIFS(Demandes!$H$2:$H$201,Demandes!$D$2:$D$201,A6,Demandes!$K$2:$K$201,"Signé")
A7: Réseau ou prescripteur | B7: =COUNTIF(Demandes!$D$2:$D$201,A7) | C7: =COUNTIFS(Demandes!$D$2:$D$201,A7,Demandes!$K$2:$K$201,"Signé") | D7: =IF(B7=0,"",C7/B7) | E7: =SUMIFS(Demandes!$H$2:$H$201,Demandes!$D$2:$D$201,A7,Demandes!$K$2:$K$201,"Signé")
A8: Sous-traitance | B8: =COUNTIF(Demandes!$D$2:$D$201,A8) | C8: =COUNTIFS(Demandes!$D$2:$D$201,A8,Demandes!$K$2:$K$201,"Signé") | D8: =IF(B8=0,"",C8/B8) | E8: =SUMIFS(Demandes!$H$2:$H$201,Demandes!$D$2:$D$201,A8,Demandes!$K$2:$K$201,"Signé")
A9: Appel d'offres | B9: =COUNTIF(Demandes!$D$2:$D$201,A9) | C9: =COUNTIFS(Demandes!$D$2:$D$201,A9,Demandes!$K$2:$K$201,"Signé") | D9: =IF(B9=0,"",C9/B9) | E9: =SUMIFS(Demandes!$H$2:$H$201,Demandes!$D$2:$D$201,A9,Demandes!$K$2:$K$201,"Signé")
A10: Autre | B10: =COUNTIF(Demandes!$D$2:$D$201,A10) | C10: =COUNTIFS(Demandes!$D$2:$D$201,A10,Demandes!$K$2:$K$201,"Signé") | D10: =IF(B10=0,"",C10/B10) | E10: =SUMIFS(Demandes!$H$2:$H$201,Demandes!$D$2:$D$201,A10,Demandes!$K$2:$K$201,"Signé")
A12: Ajoutez à côté ce que chaque canal vous coûte (abonnement, achat de contacts, temps) pour savoir lequel rapporte vraiment.

Sheet Mode d'emploi
A1: Une ligne par demande reçue, même celles qui n'aboutissent pas : ce sont elles qui disent quel canal marche.
A2: Choisissez le canal et le statut dans les listes. Les listes se modifient dans l'onglet Réglages.
A3: Les dates de relance se calculent à partir de la date d'envoi du devis. La colonne « À relancer ? » s'allume quand une relance est due et que le devis est toujours au statut « Devis envoyé ».
A4: L'onglet « Par canal » compte les demandes, les signatures et le montant signé de chaque canal.
A5: Les trois lignes d'exemple peuvent être effacées.
A6: Modèle offert par Agence Talos, agencetalos.fr.
